BEGIN:VCALENDAR
VERSION:2.0
PRODID:-//Tamarua Beauty Academy - ECPv4.9.13//NONSGML v1.0//EN
CALSCALE:GREGORIAN
METHOD:PUBLISH
X-WR-CALNAME:Tamarua Beauty Academy
X-ORIGINAL-URL:https://melbournemakeup-courses.com.au
X-WR-CALDESC:Events for Tamarua Beauty Academy
BEGIN:VTIMEZONE
TZID:Australia/Melbourne
BEGIN:STANDARD
TZOFFSETFROM:+1100
TZOFFSETTO:+1000
TZNAME:AEST
DTSTART:20200404T160000
END:STANDARD
BEGIN:DAYLIGHT
TZOFFSETFROM:+1000
TZOFFSETTO:+1100
TZNAME:AEDT
DTSTART:20201003T160000
END:DAYLIGHT
END:VTIMEZONE
BEGIN:VEVENT
DTSTART;TZID=Australia/Melbourne:20200128T180000
DTEND;TZID=Australia/Melbourne:20200317T203000
DTSTAMP:20200229T232213
CREATED:20191007T091053Z
LAST-MODIFIED:20191215T082449Z
UID:5318-1580234400-1584477000@melbournemakeup-courses.com.au
SUMMARY:Advanced Hair Styling Course - 28th January 2020 (2.5 hrs per week for 8 weeks 6-8.30pm)
DESCRIPTION:Please view full Terms & Conditions here\n
URL:https://melbournemakeup-courses.com.au/event/advanced-hair-styling-course-28th-january-2019-2-5-hrs-per-week-for-8-weeks-6-8-30pm/
LOCATION:Tamarua Beauty Academy\, 8/36 Aylesbury Drive\, Altona\, Victoria\, 3018\, Australia
CATEGORIES:Advanced Hair Styling Course
GEO:-37.9094988;144.7518764
X-APPLE-STRUCTURED-LOCATION;VALUE=URI;X-ADDRESS=Tamarua Beauty Academy 8/36 Aylesbury Drive Altona Victoria 3018 Australia;X-APPLE-RADIUS=500;X-TITLE=8/36 Aylesbury Drive:geo:144.7518764,-37.9094988
END:VEVENT
BEGIN:VEVENT
DTSTART;TZID=Australia/Melbourne:20200128T180000
DTEND;TZID=Australia/Melbourne:20200225T210000
DTSTAMP:20200229T232213
CREATED:20191008T084356Z
LAST-MODIFIED:20191215T084323Z
UID:5347-1580234400-1582664400@melbournemakeup-courses.com.au
SUMMARY:Advanced Nail Art Workshop - 28th January 2020 (Tuesday night 6-9pm)
DESCRIPTION:Please view full Terms & Conditions here\n
URL:https://melbournemakeup-courses.com.au/event/advanced-nail-art-workshop-28th-january-2020-tuesday-night-6-9pm/
LOCATION:Tamarua Beauty Academy\, 8/36 Aylesbury Drive\, Altona\, Victoria\, 3018\, Australia
CATEGORIES:Nail Art Course
GEO:-37.9094988;144.7518764
X-APPLE-STRUCTURED-LOCATION;VALUE=URI;X-ADDRESS=Tamarua Beauty Academy 8/36 Aylesbury Drive Altona Victoria 3018 Australia;X-APPLE-RADIUS=500;X-TITLE=8/36 Aylesbury Drive:geo:144.7518764,-37.9094988
END:VEVENT
BEGIN:VEVENT
DTSTART;TZID=Australia/Melbourne:20200128T180000
DTEND;TZID=Australia/Melbourne:20200225T210000
DTSTAMP:20200229T232213
CREATED:20191008T085308Z
LAST-MODIFIED:20200116T111859Z
UID:5350-1580234400-1582664400@melbournemakeup-courses.com.au
SUMMARY:Classic Eyelash Extension 5 week Course - 28th January 2020 (6-9pm)
DESCRIPTION:Please view full Terms & Conditions here\n
URL:https://melbournemakeup-courses.com.au/event/classic-eyelash-extension-5-week-course-28th-january-2020-6-9pm/
LOCATION:Tamarua Beauty Academy\, 8/36 Aylesbury Drive\, Altona\, Victoria\, 3018\, Australia
CATEGORIES:Eyelash Extension Course
GEO:-37.9094988;144.7518764
X-APPLE-STRUCTURED-LOCATION;VALUE=URI;X-ADDRESS=Tamarua Beauty Academy 8/36 Aylesbury Drive Altona Victoria 3018 Australia;X-APPLE-RADIUS=500;X-TITLE=8/36 Aylesbury Drive:geo:144.7518764,-37.9094988
END:VEVENT
BEGIN:VEVENT
DTSTART;TZID=Australia/Melbourne:20200128T183000
DTEND;TZID=Australia/Melbourne:20200317T210000
DTSTAMP:20200229T232213
CREATED:20191007T091515Z
LAST-MODIFIED:20191215T082336Z
UID:5321-1580236200-1584478800@melbournemakeup-courses.com.au
SUMMARY:Beginners Hair Styling Course - 28th January 2020 (2.5 hrs per week for 8 weeks 630-9pm)
DESCRIPTION:Please view full Terms & Conditions here\n
URL:https://melbournemakeup-courses.com.au/event/beginners-hair-styling-course-28th-january-2020-2-5-hrs-per-week-for-8-weeks-630-9pm/
LOCATION:Tamarua Beauty Academy\, 8/36 Aylesbury Drive\, Altona\, Victoria\, 3018\, Australia
CATEGORIES:Beginners Hair Styling Course
GEO:-37.9094988;144.7518764
X-APPLE-STRUCTURED-LOCATION;VALUE=URI;X-ADDRESS=Tamarua Beauty Academy 8/36 Aylesbury Drive Altona Victoria 3018 Australia;X-APPLE-RADIUS=500;X-TITLE=8/36 Aylesbury Drive:geo:144.7518764,-37.9094988
END:VEVENT
BEGIN:VEVENT
DTSTART;TZID=Australia/Melbourne:20200129T180000
DTEND;TZID=Australia/Melbourne:20200318T210000
DTSTAMP:20200229T232213
CREATED:20191007T093441Z
LAST-MODIFIED:20191215T082226Z
UID:5325-1580320800-1584565200@melbournemakeup-courses.com.au
SUMMARY:Advanced Makeup Wednesday- 29th January 2020 (3 hrs per week for 8 weeks 6-9pm)
DESCRIPTION:Please view full Terms & Conditions here\n
URL:https://melbournemakeup-courses.com.au/event/advanced-makeup-saturday-29th-january-2019-3-hrs-per-week-for-8-weeks-1-30-4-30pm/
LOCATION:Tamarua Beauty Academy\, 8/36 Aylesbury Drive\, Altona\, Victoria\, 3018\, Australia
CATEGORIES:Advanced Make-up Course
GEO:-37.9094988;144.7518764
X-APPLE-STRUCTURED-LOCATION;VALUE=URI;X-ADDRESS=Tamarua Beauty Academy 8/36 Aylesbury Drive Altona Victoria 3018 Australia;X-APPLE-RADIUS=500;X-TITLE=8/36 Aylesbury Drive:geo:144.7518764,-37.9094988
END:VEVENT
BEGIN:VEVENT
DTSTART;TZID=Australia/Melbourne:20200130T180000
DTEND;TZID=Australia/Melbourne:20200319T210000
DTSTAMP:20200229T232213
CREATED:20191007T093845Z
LAST-MODIFIED:20191215T081835Z
UID:5328-1580407200-1584651600@melbournemakeup-courses.com.au
SUMMARY:Beginners/Intermediate Makeup Course - 30th January 2020 (3 hrs per week for 8 weeks 6-9pm)
DESCRIPTION:Please view full Terms & Conditions here\n
URL:https://melbournemakeup-courses.com.au/event/beginners-intermediate-makeup-weekend-course-30th-january-2020-3-hrs-per-week-for-8-weeks-6-9pm/
LOCATION:Tamarua Beauty Academy\, 8/36 Aylesbury Drive\, Altona\, Victoria\, 3018\, Australia
CATEGORIES:Beginners Make-up Course
GEO:-37.9094988;144.7518764
X-APPLE-STRUCTURED-LOCATION;VALUE=URI;X-ADDRESS=Tamarua Beauty Academy 8/36 Aylesbury Drive Altona Victoria 3018 Australia;X-APPLE-RADIUS=500;X-TITLE=8/36 Aylesbury Drive:geo:144.7518764,-37.9094988
END:VEVENT
BEGIN:VEVENT
DTSTART;TZID=Australia/Melbourne:20200201T100000
DTEND;TZID=Australia/Melbourne:20200321T130000
DTSTAMP:20200229T232213
CREATED:20191007T095042Z
LAST-MODIFIED:20191215T081526Z
UID:5334-1580551200-1584795600@melbournemakeup-courses.com.au
SUMMARY:Beginners/Intermediate Makeup Weekend Course - 1st February 2020 (3 hrs per week for 8 weeks 10-1pm)
DESCRIPTION:Please view full Terms & Conditions here\n
URL:https://melbournemakeup-courses.com.au/event/beginners-intermediate-makeup-weekend-course-1st-february-2020-3-hrs-per-week-for-8-weeks-10-1pm/
LOCATION:Tamarua Beauty Academy\, 8/36 Aylesbury Drive\, Altona\, Victoria\, 3018\, Australia
CATEGORIES:Beginners Make-up Course
GEO:-37.9094988;144.7518764
X-APPLE-STRUCTURED-LOCATION;VALUE=URI;X-ADDRESS=Tamarua Beauty Academy 8/36 Aylesbury Drive Altona Victoria 3018 Australia;X-APPLE-RADIUS=500;X-TITLE=8/36 Aylesbury Drive:geo:144.7518764,-37.9094988
END:VEVENT
BEGIN:VEVENT
DTSTART;TZID=Australia/Melbourne:20200210T180000
DTEND;TZID=Australia/Melbourne:20200427T210000
DTSTAMP:20200229T232213
CREATED:20190726T010058Z
LAST-MODIFIED:20200206T032611Z
UID:5132-1581357600-1588021200@melbournemakeup-courses.com.au
SUMMARY:Barbering 12 week Course - 10th February 2020 (6-9pm)
DESCRIPTION:Please view full Terms & Conditions here\n
URL:https://melbournemakeup-courses.com.au/event/barbering-12-week-course-27th-january-2020-6-9pm/
LOCATION:Tamarua Beauty Academy\, 8/36 Aylesbury Drive\, Altona\, Victoria\, 3018\, Australia
CATEGORIES:Barbering
GEO:-37.9094988;144.7518764
X-APPLE-STRUCTURED-LOCATION;VALUE=URI;X-ADDRESS=Tamarua Beauty Academy 8/36 Aylesbury Drive Altona Victoria 3018 Australia;X-APPLE-RADIUS=500;X-TITLE=8/36 Aylesbury Drive:geo:144.7518764,-37.9094988
END:VEVENT
END:VCALENDAR